Workbook

Sheet Configuração
A1: Data de começo | B1: Sexta-feira, 15 dezembro, 2023
A2: Data de fim | B2: Terça-feira, 30 abril, 2024
A3: País | B3: Monaco
A4: Estado | B4: Monaco standard
A5: Fim de semana | B5: Sábado, domingo
A6: Primeiro dia da semana | B6: Segunda-feira
C7: Horários (manhã) | E7: Horários (tarde)
A8: Horas de trabalho | B8: Segunda-feira | C8: 08:00 | D8: 12:00 | E8: 14:00 | F8: 18:00
B9: Terça-feira | C9: 08:00 | D9: 12:00 | E9: 14:00 | F9: 18:00
B10: Quarta-feira | C10: 08:00 | D10: 12:00 | E10: 14:00 | F10: 18:00
B11: Quinta-feira | C11: 08:00 | D11: 12:00 | E11: 14:00 | F11: 18:00
B12: Sexta-feira | C12: 08:00 | D12: 12:00 | E12: 14:00 | F12: 18:00
B13: Sábado | C13: 08:00 | D13: 12:00 | E13: 14:00 | F13: 18:00
B14: Domingo | C14: 08:00 | D14: 12:00 | E14: 14:00 | F14: 18:00

Sheet Dias
A1: Data (DD/MM/YYYY) | C1: Dia | D1: Dia útil | E1: Dia de fim de semana | F1: Feriado | G1: Descrição | H1: Datas personalizadas | K1: Numeração (dias úteis) | L1: Horas de trabalho | M1: Horários (manhã) | O1: Horários (tarde) | S1: Teletrabalho / dias | T1: Teletrabalho / horas
A2: Sexta-feira | B2: 15/12/2023 | C2: 1 | D2: 1 | E2: 0 | F2: 0 | K2: 1 | L2: =24*(N2-M2+P2-O2) -> 0 | M2: ='Configuração'!C12 -> 08:00 | N2: ='Configuração'!D12 -> 12:00 | O2: ='Configuração'!E12 -> 14:00 | P2: ='Configuração'!F12 -> 18:00 | S2: 0 | T2: 0
A3: Sábado | B3: 16/12/2023 | C3: 1 | D3: 0 | E3: 1 | F3: 0 | S3: 0 | T3: 0
A4: Domingo | B4: 17/12/2023 | C4: 1 | D4: 0 | E4: 1 | F4: 0 | S4: 0 | T4: 0
A5: Segunda-feira | B5: 18/12/2023 | C5: 1 | D5: 1 | E5: 0 | F5: 0 | K5: 2 | L5: =24*(N5-M5+P5-O5) -> 0 | M5: ='Configuração'!C8 -> 08:00 | N5: ='Configuração'!D8 -> 12:00 | O5: ='Configuração'!E8 -> 14:00 | P5: ='Configuração'!F8 -> 18:00 | S5: 0 | T5: 0
A6: Terça-feira | B6: 19/12/2023 | C6: 1 | D6: 1 | E6: 0 | F6: 0 | K6: 3 | L6: =24*(N6-M6+P6-O6) -> 0 | M6: ='Configuração'!C9 -> 08:00 | N6: ='Configuração'!D9 -> 12:00 | O6: ='Configuração'!E9 -> 14:00 | P6: ='Configuração'!F9 -> 18:00 | S6: 0 | T6: 0
A7: Quarta-feira | B7: 20/12/2023 | C7: 1 | D7: 1 | E7: 0 | F7: 0 | K7: 4 | L7: =24*(N7-M7+P7-O7) -> 0 | M7: ='Configuração'!C10 -> 08:00 | N7: ='Configuração'!D10 -> 12:00 | O7: ='Configuração'!E10 -> 14:00 | P7: ='Configuração'!F10 -> 18:00 | S7: 0 | T7: 0
A8: Quinta-feira | B8: 21/12/2023 | C8: 1 | D8: 1 | E8: 0 | F8: 0 | K8: 5 | L8: =24*(N8-M8+P8-O8) -> 0 | M8: ='Configuração'!C11 -> 08:00 | N8: ='Configuração'!D11 -> 12:00 | O8: ='Configuração'!E11 -> 14:00 | P8: ='Configuração'!F11 -> 18:00 | S8: 0 | T8: 0
A9: Sexta-feira | B9: 22/12/2023 | C9: 1 | D9: 1 | E9: 0 | F9: 0 | K9: 6 | L9: =24*(N9-M9+P9-O9) -> 0 | M9: ='Configuração'!C12 -> 08:00 | N9: ='Configuração'!D12 -> 12:00 | O9: ='Configuração'!E12 -> 14:00 | P9: ='Configuração'!F12 -> 18:00 | S9: 0 | T9: 0
A10: Sábado | B10: 23/12/2023 | C10: 1 | D10: 0 | E10: 1 | F10: 0 | S10: 0 | T10: 0
A11: Domingo | B11: 24/12/2023 | C11: 1 | D11: 0 | E11: 1 | F11: 0 | S11: 0 | T11: 0
A12: Segunda-feira | B12: 25/12/2023 | C12: 1 | D12: 0 | E12: 0 | F12: 1 | G12: Jour de Noël | S12: 0 | T12: 0
A13: Terça-feira | B13: 26/12/2023 | C13: 1 | D13: 1 | E13: 0 | F13: 0 | K13: 7 | L13: =24*(N13-M13+P13-O13) -> 0 | M13: ='Configuração'!C9 -> 08:00 | N13: ='Configuração'!D9 -> 12:00 | O13: ='Configuração'!E9 -> 14:00 | P13: ='Configuração'!F9 -> 18:00 | S13: 0 | T13: 0
A14: Quarta-feira | B14: 27/12/2023 | C14: 1 | D14: 1 | E14: 0 | F14: 0 | K14: 8 | L14: =24*(N14-M14+P14-O14) -> 0 | M14: ='Configuração'!C10 -> 08:00 | N14: ='Configuração'!D10 -> 12:00 | O14: ='Configuração'!E10 -> 14:00 | P14: ='Configuração'!F10 -> 18:00 | S14: 0 | T14: 0
A15: Quinta-feira | B15: 28/12/2023 | C15: 1 | D15: 1 | E15: 0 | F15: 0 | K15: 9 | L15: =24*(N15-M15+P15-O15) -> 0 | M15: ='Configuração'!C11 -> 08:00 | N15: ='Configuração'!D11 -> 12:00 | O15: ='Configuração'!E11 -> 14:00 | P15: ='Configuração'!F11 -> 18:00 | S15: 0 | T15: 0
A16: Sexta-feira | B16: 29/12/2023 | C16: 1 | D16: 1 | E16: 0 | F16: 0 | K16: 10 | L16: =24*(N16-M16+P16-O16) -> 0 | M16: ='Configuração'!C12 -> 08:00 | N16: ='Configuração'!D12 -> 12:00 | O16: ='Configuração'!E12 -> 14:00 | P16: ='Configuração'!F12 -> 18:00 | S16: 0 | T16: 0
A17: Sábado | B17: 30/12/2023 | C17: 1 | D17: 0 | E17: 1 | F17: 0 | S17: 0 | T17: 0
A18: Domingo | B18: 31/12/2023 | C18: 1 | D18: 0 | E18: 1 | F18: 0 | S18: 0 | T18: 0
A19: Segunda-feira | B19: 01/01/2024 | C19: 1 | D19: 0 | E19: 0 | F19: 1 | G19: Jour de l'An | S19: 0 | T19: 0
A20: Terça-feira | B20: 02/01/2024 | C20: 1 | D20: 1 | E20: 0 | F20: 0 | K20: 11 | L20: =24*(N20-M20+P20-O20) -> 0 | M20: ='Configuração'!C9 -> 08:00 | N20: ='Configuração'!D9 -> 12:00 | O20: ='Configuração'!E9 -> 14:00 | P20: ='Configuração'!F9 -> 18:00 | S20: 0 | T20: 0
A21: Quarta-feira | B21: 03/01/2024 | C21: 1 | D21: 1 | E21: 0 | F21: 0 | K21: 12 | L21: =24*(N21-M21+P21-O21) -> 0 | M21: ='Configuração'!C10 -> 08:00 | N21: ='Configuração'!D10 -> 12:00 | O21: ='Configuração'!E10 -> 14:00 | P21: ='Configuração'!F10 -> 18:00 | S21: 0 | T21: 0
A22: Quinta-feira | B22: 04/01/2024 | C22: 1 | D22: 1 | E22: 0 | F22: 0 | K22: 13 | L22: =24*(N22-M22+P22-O22) -> 0 | M22: ='Configuração'!C11 -> 08:00 | N22: ='Configuração'!D11 -> 12:00 | O22: ='Configuração'!E11 -> 14:00 | P22: ='Configuração'!F11 -> 18:00 | S22: 0 | T22: 0
A23: Sexta-feira | B23: 05/01/2024 | C23: 1 | D23: 1 | E23: 0 | F23: 0 | K23: 14 | L23: =24*(N23-M23+P23-O23) -> 0 | M23: ='Configuração'!C12 -> 08:00 | N23: ='Configuração'!D12 -> 12:00 | O23: ='Configuração'!E12 -> 14:00 | P23: ='Configuração'!F12 -> 18:00 | S23: 0 | T23: 0
A24: Sábado | B24: 06/01/2024 | C24: 1 | D24: 0 | E24: 1 | F24: 0 | S24: 0 | T24: 0
A25: Domingo | B25: 07/01/2024 | C25: 1 | D25: 0 | E25: 1 | F25: 0 | S25: 0 | T25: 0
A26: Segunda-feira | B26: 08/01/2024 | C26: 1 | D26: 1 | E26: 0 | F26: 0 | K26: 15 | L26: =24*(N26-M26+P26-O26) -> 0 | M26: ='Configuração'!C8 -> 08:00 | N26: ='Configuração'!D8 -> 12:00 | O26: ='Configuração'!E8 -> 14:00 | P26: ='Configuração'!F8 -> 18:00 | S26: 0 | T26: 0
A27: Terça-feira | B27: 09/01/2024 | C27: 1 | D27: 1 | E27: 0 | F27: 0 | K27: 16 | L27: =24*(N27-M27+P27-O27) -> 0 | M27: ='Configuração'!C9 -> 08:00 | N27: ='Configuração'!D9 -> 12:00 | O27: ='Configuração'!E9 -> 14:00 | P27: ='Configuração'!F9 -> 18:00 | S27: 0 | T27: 0
A28: Quarta-feira | B28: 10/01/2024 | C28: 1 | D28: 1 | E28: 0 | F28: 0 | K28: 17 | L28: =24*(N28-M28+P28-O28) -> 0 | M28: ='Configuração'!C10 -> 08:00 | N28: ='Configuração'!D10 -> 12:00 | O28: ='Configuração'!E10 -> 14:00 | P28: ='Configuração'!F10 -> 18:00 | S28: 0 | T28: 0
A29: Quinta-feira | B29: 11/01/2024 | C29: 1 | D29: 1 | E29: 0 | F29: 0 | K29: 18 | L29: =24*(N29-M29+P29-O29) -> 0 | M29: ='Configuração'!C11 -> 08:00 | N29: ='Configuração'!D11 -> 12:00 | O29: ='Configuração'!E11 -> 14:00 | P29: ='Configuração'!F11 -> 18:00 | S29: 0 | T29: 0
A30: Sexta-feira | B30: 12/01/2024 | C30: 1 | D30: 1 | E30: 0 | F30: 0 | K30: 19 | L30: =24*(N30-M30+P30-O30) -> 0 | M30: ='Configuração'!C12 -> 08:00 | N30: ='Configuração'!D12 -> 12:00 | O30: ='Configuração'!E12 -> 14:00 | P30: ='Configuração'!F12 -> 18:00 | S30: 0 | T30: 0
A31: Sábado | B31: 13/01/2024 | C31: 1 | D31: 0 | E31: 1 | F31: 0 | S31: 0 | T31: 0
A32: Domingo | B32: 14/01/2024 | C32: 1 | D32: 0 | E32: 1 | F32: 0 | S32: 0 | T32: 0
A33: Segunda-feira | B33: 15/01/2024 | C33: 1 | D33: 1 | E33: 0 | F33: 0 | K33: 20 | L33: =24*(N33-M33+P33-O33) -> 0 | M33: ='Configuração'!C8 -> 08:00 | N33: ='Configuração'!D8 -> 12:00 | O33: ='Configuração'!E8 -> 14:00 | P33: ='Configuração'!F8 -> 18:00 | S33: 0 | T33: 0
A34: Terça-feira | B34: 16/01/2024 | C34: 1 | D34: 1 | E34: 0 | F34: 0 | K34: 21 | L34: =24*(N34-M34+P34-O34) -> 0 | M34: ='Configuração'!C9 -> 08:00 | N34: ='Configuração'!D9 -> 12:00 | O34: ='Configuração'!E9 -> 14:00 | P34: ='Configuração'!F9 -> 18:00 | S34: 0 | T34: 0
A35: Quarta-feira | B35: 17/01/2024 | C35: 1 | D35: 1 | E35: 0 | F35: 0 | K35: 22 | L35: =24*(N35-M35+P35-O35) -> 0 | M35: ='Configuração'!C10 -> 08:00 | N35: ='Configuração'!D10 -> 12:00 | O35: ='Configuração'!E10 -> 14:00 | P35: ='Configuração'!F10 -> 18:00 | S35: 0 | T35: 0
A36: Quinta-feira | B36: 18/01/2024 | C36: 1 | D36: 1 | E36: 0 | F36: 0 | K36: 23 | L36: =24*(N36-M36+P36-O36) -> 0 | M36: ='Configuração'!C11 -> 08:00 | N36: ='Configuração'!D11 -> 12:00 | O36: ='Configuração'!E11 -> 14:00 | P36: ='Configuração'!F11 -> 18:00 | S36: 0 | T36: 0
A37: Sexta-feira | B37: 19/01/2024 | C37: 1 | D37: 1 | E37: 0 | F37: 0 | K37: 24 | L37: =24*(N37-M37+P37-O37) -> 0 | M37: ='Configuração'!C12 -> 08:00 | N37: ='Configuração'!D12 -> 12:00 | O37: ='Configuração'!E12 -> 14:00 | P37: ='Configuração'!F12 -> 18:00 | S37: 0 | T37: 0
A38: Sábado | B38: 20/01/2024 | C38: 1 | D38: 0 | E38: 1 | F38: 0 | S38: 0 | T38: 0
A39: Domingo | B39: 21/01/2024 | C39: 1 | D39: 0 | E39: 1 | F39: 0 | S39: 0 | T39: 0
A40: Segunda-feira | B40: 22/01/2024 | C40: 1 | D40: 1 | E40: 0 | F40: 0 | K40: 25 | L40: =24*(N40-M40+P40-O40) -> 0 | M40: ='Configuração'!C8 -> 08:00 | N40: ='Configuração'!D8 -> 12:00 | O40: ='Configuração'!E8 -> 14:00 | P40: ='Configuração'!F8 -> 18:00 | S40: 0 | T40: 0
...

Sheet Semanas
A1: Semana | B1: Dias | C1: Dias úteis | D1: Fim de semana | E1: Feriados | F1: Custom dates | G1: Horas de trabalho
A2: 15/12/2023 → 17/12/2023 | B2: =SUM(Dias!C2:C4) -> 3 | C2: =SUM(Dias!D2:D4) -> 1 | D2: =SUM(Dias!E2:E4) -> 2 | E2: =SUM(Dias!F2:F4) -> 0 | F2: =SUM(Dias!H2:H4) -> 0 | G2: =SUM(Dias!L2:L4) -> 0
A3: 18/12/2023 → 24/12/2023 | B3: =SUM(Dias!C5:C11) -> 7 | C3: =SUM(Dias!D5:D11) -> 5 | D3: =SUM(Dias!E5:E11) -> 2 | E3: =SUM(Dias!F5:F11) -> 0 | F3: =SUM(Dias!H5:H11) -> 0 | G3: =SUM(Dias!L5:L11) -> 0
A4: 25/12/2023 → 31/12/2023 | B4: =SUM(Dias!C12:C18) -> 7 | C4: =SUM(Dias!D12:D18) -> 4 | D4: =SUM(Dias!E12:E18) -> 2 | E4: =SUM(Dias!F12:F18) -> 1 | F4: =SUM(Dias!H12:H18) -> 0 | G4: =SUM(Dias!L12:L18) -> 0
A5: 01/01/2024 → 07/01/2024 | B5: =SUM(Dias!C19:C25) -> 7 | C5: =SUM(Dias!D19:D25) -> 4 | D5: =SUM(Dias!E19:E25) -> 2 | E5: =SUM(Dias!F19:F25) -> 1 | F5: =SUM(Dias!H19:H25) -> 0 | G5: =SUM(Dias!L19:L25) -> 0
A6: 08/01/2024 → 14/01/2024 | B6: =SUM(Dias!C26:C32) -> 7 | C6: =SUM(Dias!D26:D32) -> 5 | D6: =SUM(Dias!E26:E32) -> 2 | E6: =SUM(Dias!F26:F32) -> 0 | F6: =SUM(Dias!H26:H32) -> 0 | G6: =SUM(Dias!L26:L32) -> 0
A7: 15/01/2024 → 21/01/2024 | B7: =SUM(Dias!C33:C39) -> 7 | C7: =SUM(Dias!D33:D39) -> 5 | D7: =SUM(Dias!E33:E39) -> 2 | E7: =SUM(Dias!F33:F39) -> 0 | F7: =SUM(Dias!H33:H39) -> 0 | G7: =SUM(Dias!L33:L39) -> 0
A8: 22/01/2024 → 28/01/2024 | B8: =SUM(Dias!C40:C46) -> 7 | C8: =SUM(Dias!D40:D46) -> 5 | D8: =SUM(Dias!E40:E46) -> 2 | E8: =SUM(Dias!F40:F46) -> 1 | F8: =SUM(Dias!H40:H46) -> 0 | G8: =SUM(Dias!L40:L46) -> 0
A9: 29/01/2024 → 04/02/2024 | B9: =SUM(Dias!C47:C53) -> 7 | C9: =SUM(Dias!D47:D53) -> 5 | D9: =SUM(Dias!E47:E53) -> 2 | E9: =SUM(Dias!F47:F53) -> 0 | F9: =SUM(Dias!H47:H53) -> 0 | G9: =SUM(Dias!L47:L53) -> 0
A10: 05/02/2024 → 11/02/2024 | B10: =SUM(Dias!C54:C60) -> 7 | C10: =SUM(Dias!D54:D60) -> 5 | D10: =SUM(Dias!E54:E60) -> 2 | E10: =SUM(Dias!F54:F60) -> 0 | F10: =SUM(Dias!H54:H60) -> 0 | G10: =SUM(Dias!L54:L60) -> 0
A11: 12/02/2024 → 18/02/2024 | B11: =SUM(Dias!C61:C67) -> 7 | C11: =SUM(Dias!D61:D67) -> 5 | D11: =SUM(Dias!E61:E67) -> 2 | E11: =SUM(Dias!F61:F67) -> 0 | F11: =SUM(Dias!H61:H67) -> 0 | G11: =SUM(Dias!L61:L67) -> 0
A12: 19/02/2024 → 25/02/2024 | B12: =SUM(Dias!C68:C74) -> 7 | C12: =SUM(Dias!D68:D74) -> 5 | D12: =SUM(Dias!E68:E74) -> 2 | E12: =SUM(Dias!F68:F74) -> 0 | F12: =SUM(Dias!H68:H74) -> 0 | G12: =SUM(Dias!L68:L74) -> 0
A13: 26/02/2024 → 03/03/2024 | B13: =SUM(Dias!C75:C81) -> 7 | C13: =SUM(Dias!D75:D81) -> 5 | D13: =SUM(Dias!E75:E81) -> 2 | E13: =SUM(Dias!F75:F81) -> 0 | F13: =SUM(Dias!H75:H81) -> 0 | G13: =SUM(Dias!L75:L81) -> 0
A14: 04/03/2024 → 10/03/2024 | B14: =SUM(Dias!C82:C88) -> 7 | C14: =SUM(Dias!D82:D88) -> 5 | D14: =SUM(Dias!E82:E88) -> 2 | E14: =SUM(Dias!F82:F88) -> 0 | F14: =SUM(Dias!H82:H88) -> 0 | G14: =SUM(Dias!L82:L88) -> 0
A15: 11/03/2024 → 17/03/2024 | B15: =SUM(Dias!C89:C95) -> 7 | C15: =SUM(Dias!D89:D95) -> 5 | D15: =SUM(Dias!E89:E95) -> 2 | E15: =SUM(Dias!F89:F95) -> 0 | F15: =SUM(Dias!H89:H95) -> 0 | G15: =SUM(Dias!L89:L95) -> 0
A16: 18/03/2024 → 24/03/2024 | B16: =SUM(Dias!C96:C102) -> 7 | C16: =SUM(Dias!D96:D102) -> 5 | D16: =SUM(Dias!E96:E102) -> 2 | E16: =SUM(Dias!F96:F102) -> 0 | F16: =SUM(Dias!H96:H102) -> 0 | G16: =SUM(Dias!L96:L102) -> 0
A17: 25/03/2024 → 31/03/2024 | B17: =SUM(Dias!C103:C109) -> 7 | C17: =SUM(Dias!D103:D109) -> 5 | D17: =SUM(Dias!E103:E109) -> 2 | E17: =SUM(Dias!F103:F109) -> 0 | F17: =SUM(Dias!H103:H109) -> 0 | G17: =SUM(Dias!L103:L109) -> 0
A18: 01/04/2024 → 07/04/2024 | B18: =SUM(Dias!C110:C116) -> 7 | C18: =SUM(Dias!D110:D116) -> 4 | D18: =SUM(Dias!E110:E116) -> 2 | E18: =SUM(Dias!F110:F116) -> 1 | F18: =SUM(Dias!H110:H116) -> 0 | G18: =SUM(Dias!L110:L116) -> 0
A19: 08/04/2024 → 14/04/2024 | B19: =SUM(Dias!C117:C123) -> 7 | C19: =SUM(Dias!D117:D123) -> 5 | D19: =SUM(Dias!E117:E123) -> 2 | E19: =SUM(Dias!F117:F123) -> 0 | F19: =SUM(Dias!H117:H123) -> 0 | G19: =SUM(Dias!L117:L123) -> 0
A20: 15/04/2024 → 21/04/2024 | B20: =SUM(Dias!C124:C130) -> 7 | C20: =SUM(Dias!D124:D130) -> 5 | D20: =SUM(Dias!E124:E130) -> 2 | E20: =SUM(Dias!F124:F130) -> 0 | F20: =SUM(Dias!H124:H130) -> 0 | G20: =SUM(Dias!L124:L130) -> 0
A21: 22/04/2024 → 28/04/2024 | B21: =SUM(Dias!C131:C137) -> 7 | C21: =SUM(Dias!D131:D137) -> 5 | D21: =SUM(Dias!E131:E137) -> 2 | E21: =SUM(Dias!F131:F137) -> 0 | F21: =SUM(Dias!H131:H137) -> 0 | G21: =SUM(Dias!L131:L137) -> 0
A22: 29/04/2024 → 30/04/2024 | B22: =SUM(Dias!C138:C139) -> 2 | C22: =SUM(Dias!D138:D139) -> 2 | D22: =SUM(Dias!E138:E139) -> 0 | E22: =SUM(Dias!F138:F139) -> 0 | F22: =SUM(Dias!H138:H139) -> 0 | G22: =SUM(Dias!L138:L139) -> 0
A23: Total | B23: =SUM(B2:B22) -> 138 | C23: =SUM(C2:C22) -> 95 | D23: =SUM(D2:D22) -> 40 | E23: =SUM(E2:E22) -> 4 | F23: =SUM(F2:F22) -> 0 | G23: =SUM(G2:G22) -> 0

Sheet Meses
A1: Mês | B1: Dias | C1: Dias úteis | D1: Fim de semana | E1: Feriados | F1: Custom dates | G1: Horas de trabalho
A2: Dezembro 2023 | B2: =SUM(Dias!C2:C18) -> 17 | C2: =SUM(Dias!D2:D18) -> 10 | D2: =SUM(Dias!E2:E18) -> 6 | E2: =SUM(Dias!F2:F18) -> 1 | F2: =SUM(Dias!H2:H18) -> 0 | G2: =SUM(Dias!L2:L18) -> 0
A3: Janeiro 2024 | B3: =SUM(Dias!C19:C49) -> 31 | C3: =SUM(Dias!D19:D49) -> 22 | D3: =SUM(Dias!E19:E49) -> 8 | E3: =SUM(Dias!F19:F49) -> 2 | F3: =SUM(Dias!H19:H49) -> 0 | G3: =SUM(Dias!L19:L49) -> 0
A4: Fevereiro 2024 | B4: =SUM(Dias!C50:C78) -> 29 | C4: =SUM(Dias!D50:D78) -> 21 | D4: =SUM(Dias!E50:E78) -> 8 | E4: =SUM(Dias!F50:F78) -> 0 | F4: =SUM(Dias!H50:H78) -> 0 | G4: =SUM(Dias!L50:L78) -> 0
A5: Março 2024 | B5: =SUM(Dias!C79:C109) -> 31 | C5: =SUM(Dias!D79:D109) -> 21 | D5: =SUM(Dias!E79:E109) -> 10 | E5: =SUM(Dias!F79:F109) -> 0 | F5: =SUM(Dias!H79:H109) -> 0 | G5: =SUM(Dias!L79:L109) -> 0
A6: Abril 2024 | B6: =SUM(Dias!C110:C139) -> 30 | C6: =SUM(Dias!D110:D139) -> 21 | D6: =SUM(Dias!E110:E139) -> 8 | E6: =SUM(Dias!F110:F139) -> 1 | F6: =SUM(Dias!H110:H139) -> 0 | G6: =SUM(Dias!L110:L139) -> 0
A7: Total | B7: =SUM(B2:B6) -> 138 | C7: =SUM(C2:C6) -> 95 | D7: =SUM(D2:D6) -> 40 | E7: =SUM(E2:E6) -> 4 | F7: =SUM(F2:F6) -> 0 | G7: =SUM(G2:G6) -> 0

Sheet Anos
A1: Ano | B1: Dias | C1: Dias úteis | D1: Fim de semana | E1: Feriados | F1: Custom dates | G1: Horas de trabalho
A2: 2023 | B2: =SUM(Dias!C2:C18) -> 17 | C2: =SUM(Dias!D2:D18) -> 10 | D2: =SUM(Dias!E2:E18) -> 6 | E2: =SUM(Dias!F2:F18) -> 1 | F2: =SUM(Dias!H2:H18) -> 0 | G2: =SUM(Dias!L2:L18) -> 0
A3: 2024 | B3: =SUM(Dias!C19:C139) -> 121 | C3: =SUM(Dias!D19:D139) -> 85 | D3: =SUM(Dias!E19:E139) -> 34 | E3: =SUM(Dias!F19:F139) -> 3 | F3: =SUM(Dias!H19:H139) -> 0 | G3: =SUM(Dias!L19:L139) -> 0
A4: Total | B4: =SUM(B2:B3) -> 138 | C4: =SUM(C2:C3) -> 95 | D4: =SUM(D2:D3) -> 40 | E4: =SUM(E2:E3) -> 4 | F4: =SUM(F2:F3) -> 0 | G4: =SUM(G2:G3) -> 0
